BEGIN:VCALENDAR
VERSION:2.0
PRODID:-//BCMB - ECPv6.15.16.1//NONSGML v1.0//EN
CALSCALE:GREGORIAN
METHOD:PUBLISH
X-ORIGINAL-URL:https://bcmb.org
X-WR-CALDESC:Events for BCMB
REFRESH-INTERVAL;VALUE=DURATION:PT1H
X-Robots-Tag:noindex
X-PUBLISHED-TTL:PT1H
BEGIN:VTIMEZONE
TZID:America/Vancouver
BEGIN:DAYLIGHT
TZOFFSETFROM:-0800
TZOFFSETTO:-0700
TZNAME:PDT
DTSTART:20250309T100000
END:DAYLIGHT
BEGIN:STANDARD
TZOFFSETFROM:-0700
TZOFFSETTO:-0800
TZNAME:PST
DTSTART:20251102T090000
END:STANDARD
BEGIN:DAYLIGHT
TZOFFSETFROM:-0800
TZOFFSETTO:-0700
TZNAME:PDT
DTSTART:20260308T100000
END:DAYLIGHT
BEGIN:STANDARD
TZOFFSETFROM:-0700
TZOFFSETTO:-0800
TZNAME:PST
DTSTART:20261101T090000
END:STANDARD
BEGIN:DAYLIGHT
TZOFFSETFROM:-0800
TZOFFSETTO:-0700
TZNAME:PDT
DTSTART:20270314T100000
END:DAYLIGHT
BEGIN:STANDARD
TZOFFSETFROM:-0700
TZOFFSETTO:-0800
TZNAME:PST
DTSTART:20271107T090000
END:STANDARD
END:VTIMEZONE
BEGIN:VEVENT
DTSTART;VALUE=DATE:20260317
DTEND;VALUE=DATE:20260319
DTSTAMP:20260421T105119
CREATED:20260211T173714Z
LAST-MODIFIED:20260211T225853Z
UID:1437-1773705600-1773878399@bcmb.org
SUMMARY:Pillars of a Healthy Church
DESCRIPTION:This event is open to anyone seeking to deepen their understanding of how to live out a theological vision for the city. Topics include cultivating a vision for gospel movement\, mission\, and ministry in Canada\, along with grace renewal dynamics\, the importance of contextualization\, and the essential elements that foster church revitalization and vitality. Participants will also gain insight into City to City’s revitalization framework and tools\, and how they can be applied within their own context. \nDates: March 17–18\, 2026\nLocation: Centre Church\, Vancouver\nCost: $100\nSpeakers: Andrew Katay and Jamie Bester (City to City Australia) \nFor more information\, please visit our website or register here.
URL:https://bcmb.org/event/pillars-of-a-healthy-church/
LOCATION:Centre Church\, 777 Homer Street\, Vancouver\, British Columbia\, V6B 2W1\, Canada
CATEGORIES:External
ATTACH;FMTTYPE=image/png:https://bcmb.org/wp-content/uploads/2026/02/2026-Pillars-Twitter-Post.png
END:VEVENT
BEGIN:VEVENT
DTSTART;VALUE=DATE:20260424
DTEND;VALUE=DATE:20260426
DTSTAMP:20260421T105119
CREATED:20260304T181743Z
LAST-MODIFIED:20260420T165633Z
UID:1644-1776988800-1777161599@bcmb.org
SUMMARY:BCMB 2026 Annual Convention
DESCRIPTION:Join us for our Annual Convention\nThis weekend brings together leadership training\, prayer\, celebration\, ministry updates\, and the BCMB Business Meeting—along with meaningful opportunities for connection and collaboration. \n\n 
URL:https://bcmb.org/event/bcmb-2026-annual-convention/
LOCATION:Willow Park Church\, 439 Hwy 33\, West Kelowna\, British Columbia\, V1X 1Y2\, Canada
ATTACH;FMTTYPE=image/jpeg:https://bcmb.org/wp-content/uploads/2026/03/2026-Convention-Event-Graphic-1.jpg
ORGANIZER;CN="BCMB":MAILTO:office@bcmb.org
END:VEVENT
BEGIN:VEVENT
DTSTART;TZID=America/Vancouver:20260509T090000
DTEND;TZID=America/Vancouver:20260509T150000
DTSTAMP:20260421T105119
CREATED:20260320T154159Z
LAST-MODIFIED:20260320T154159Z
UID:1864-1778317200-1778338800@bcmb.org
SUMMARY:Equipping Event: MAiD
DESCRIPTION:Sign up to attend here: Registration Form
URL:https://bcmb.org/event/equipping-event-maid/
LOCATION:Central Heights Church
CATEGORIES:External
ATTACH;FMTTYPE=image/jpeg:https://bcmb.org/wp-content/uploads/2026/03/Unknown-2-scaled.jpeg
END:VEVENT
BEGIN:VEVENT
DTSTART;VALUE=DATE:20260602
DTEND;VALUE=DATE:20260605
DTSTAMP:20260421T105119
CREATED:20251103T062210Z
LAST-MODIFIED:20251125T224839Z
UID:420-1780358400-1780617599@bcmb.org
SUMMARY:PCO 2026
DESCRIPTION:Getting to know the family!\nSave the date for our next Pastor’s Credentialing Orientation\, hosted in BC June 2-4\, 2026.
URL:https://bcmb.org/event/pco-2026/
CATEGORIES:External
ATTACH;FMTTYPE=image/webp:https://bcmb.org/wp-content/uploads/2025/11/pco-2026.webp
ORGANIZER;CN="BCMB":MAILTO:office@bcmb.org
END:VEVENT
END:VCALENDAR